BEGIN:VCALENDAR
VERSION:2.0
PRODID:-//Kolme Group - ECPv6.15.20//NONSGML v1.0//EN
CALSCALE:GREGORIAN
METHOD:PUBLISH
X-WR-CALNAME:Kolme Group
X-ORIGINAL-URL:https://kolmegroup.com
X-WR-CALDESC:Events for Kolme Group
REFRESH-INTERVAL;VALUE=DURATION:PT1H
X-Robots-Tag:noindex
X-PUBLISHED-TTL:PT1H
BEGIN:VTIMEZONE
TZID:America/Phoenix
BEGIN:STANDARD
TZOFFSETFROM:-0700
TZOFFSETTO:-0700
TZNAME:MST
DTSTART:20220101T000000
END:STANDARD
END:VTIMEZONE
BEGIN:VEVENT
DTSTART;VALUE=DATE:20231114
DTEND;VALUE=DATE:20231115
DTSTAMP:20260420T111339
CREATED:20231207T233115Z
LAST-MODIFIED:20231207T233452Z
UID:10000002-1699920000-1700006399@kolmegroup.com
SUMMARY:Vision To Victory Virtual Summit 2023
DESCRIPTION:Sign up today to access all session recordings from Vision to Victory! Hear from founders\, CEOs\, PMOs and operational leaders from a variety of successful companies—all to help you align your vision with efficient execution. \nWATCH: Navigating the business world can be like solving a giant jigsaw puzzle – tricky but not impossible. In this session\, Matthew Henderson\, Co-CEO of Kolme Group\, will share some clever strategies to tackle these challenges and put you on the fast track to success. He’ll chat about leadership\, fresh ideas\, and how to handle change like a pro. You will walk away understanding how to turn stumbling blocks into stepping stones\, setting your organization on the path to success.
URL:https://kolmegroup.com/event/vision-to-victory-2023/
LOCATION:Virtual
ATTACH;FMTTYPE=image/png:https://kolmegroup.com/wp-content/uploads/2023/12/VisionToVictory_Social-Card_Kolme-03.png
END:VEVENT
END:VCALENDAR